BEGIN:VCALENDAR
VERSION:2.0
PRODID:-//Tukios.com/
BEGIN:VEVENT
UID:aade661a-95ef-4241-a172-274ae2b3de71@www.kuratkonosek.com
DTSTAMP:20260420T203346Z
DTSTART:20260423T143000Z
DTEND:20260423T153000Z
SUMMARY:Visitation
DESCRIPTION:
URL:https://www.kuratkonosek.com/obituaries/lawrence-waszak
LOCATION: 4300 Oak Park Avenue  Stickney IL 60402
GEO:41.8139005;-87.7926359
END:VEVENT
END:VCALENDAR