BEGIN:VCALENDAR
VERSION:2.0
PRODID:-//Tukios.com/
BEGIN:VEVENT
UID:56d29d22-c782-452d-bcc7-f6ae7f772ad1@www.kuratkonosek.com
DTSTAMP:20260420T203232Z
DTSTART:20260423T153000Z
DTEND:20260423T163000Z
SUMMARY:Funeral Mas
DESCRIPTION:
URL:https://www.kuratkonosek.com/obituaries/lawrence-waszak
LOCATION: 4300 Oak Park Avenue  Stickney IL 60402
GEO:41.8139005;-87.7926359
END:VEVENT
END:VCALENDAR