BEGIN:VCALENDAR
VERSION:2.0
PRODID:-//Tukios.com/
BEGIN:VEVENT
UID:47e2031c-d621-49f3-8572-21de4cd0f9fd@www.kuratkonosek.com
DTSTAMP:20260420T203707Z
DTSTART:20260423
SUMMARY:Interment
DESCRIPTION:
URL:https://www.kuratkonosek.com/obituaries/lawrence-waszak
LOCATION: 7201 Archer Road  Justice IL 60458
GEO:41.7579402;-87.8273819
END:VEVENT
END:VCALENDAR