BEGIN:VCALENDAR
VERSION:2.0
PRODID:-//Tukios.com/
BEGIN:VEVENT
UID:cef6b2af-e991-471f-9e70-dca03ed3bfbb@www.kuratkonosek.com
DTSTAMP:20260421T195853Z
DTSTART:20260430T200000Z
DTEND:20260501T010000Z
SUMMARY:Visitation
DESCRIPTION:
URL:https://www.kuratkonosek.com/obituaries/leticia-caride
LOCATION: 2447 Des Plaines Ave  North Riverside IL 60546
GEO:41.8447482;-87.8226213
END:VEVENT
END:VCALENDAR