BEGIN:VCALENDAR
VERSION:2.0
PRODID:-//Tukios.com/
BEGIN:VEVENT
UID:e45c4cc2-378e-48e6-bdfe-107dd3f77a70@www.kuratkonosek.com
DTSTAMP:20260421T200212Z
DTSTART:20260501T140000Z
DTEND:20260501T150000Z
SUMMARY:Prayer Service
DESCRIPTION:
URL:https://www.kuratkonosek.com/obituaries/leticia-caride
LOCATION: 2447 Des Plaines Ave  North Riverside IL 60546
GEO:41.8447482;-87.8226213
END:VEVENT
END:VCALENDAR