BEGIN:VCALENDAR
VERSION:2.0
PRODID:-//Tukios.com/
BEGIN:VEVENT
UID:961eb473-aeea-42ea-a5a3-c5d867d870fb@www.kuratkonosek.com
DTSTAMP:20260421T200809Z
DTSTART:20260501T150000Z
DTEND:20260501T160000Z
SUMMARY:Mass
DESCRIPTION:
URL:https://www.kuratkonosek.com/obituaries/leticia-caride
LOCATION:St Daniel the Prophet Church 5300 S. Natoma Ave  Chicago IL 
	60638
GEO:41.7946326;-87.7871415
END:VEVENT
END:VCALENDAR