BEGIN:VCALENDAR
VERSION:2.0
PRODID:-//Tukios.com/
BEGIN:VEVENT
UID:be6e57f7-1287-45cd-ab8e-13bb7a680f18@www.kuratkonosek.com
DTSTAMP:20260421T200345Z
DTSTART:20260501T170000Z
DTEND:20260501T180000Z
SUMMARY:Interment
DESCRIPTION:
URL:https://www.kuratkonosek.com/obituaries/leticia-caride
LOCATION: 4101 South Oak Park Ave  Stickney IL 60402
GEO:41.8174645;-87.791896
END:VEVENT
END:VCALENDAR